BEGIN:VCALENDAR
VERSION:2.0
PRODID:spatie/icalendar-generator
DESCRIPTION:Veranstaltungen von kleineKraft
X-WR-CALDESC:Veranstaltungen von kleineKraft
REFRESH-INTERVAL;VALUE=DURATION:PT1440M
X-PUBLISHED-TTL:PT1440M
BEGIN:VTIMEZONE
TZID:Etc/GMT-1
BEGIN:STANDARD
DTSTART:20250709T100000Z
TZOFFSETFROM:+0100
TZOFFSETTO:+0100
END:STANDARD
END:VTIMEZONE
BEGIN:VTIMEZONE
TZID:UTC
BEGIN:STANDARD
DTSTART:20250725T131101Z
TZOFFSETFROM:+0000
TZOFFSETTO:+0000
END:STANDARD
END:VTIMEZONE
BEGIN:VEVENT
UID:127-53
DTSTAMP:20260421T131101Z
SUMMARY:Gottesdienst in Wangen i.A.
LOCATION:Gemeindezentrum der Lutherischen Freikirche  Ebnetstr. 1  Wangen  
 88239
ORGANIZER;CN=Jonas Schröter:MAILTO:jonas@schroeters.net
DTSTART;TZID=Etc/GMT-1:20260405T100000
DTEND;TZID=Etc/GMT-1:20260405T110000
X-ALT-DESC;FMTTYPE=TEXT/HTML:Wir feiern das Osterfest mit einem festlichen 
 Gottesdienst
CATEGORIES:GD live
URL;VALUE=URI:https://kleinekraft.de/mc-events/gottesdienst-in-wangen-i-a-5
 /
METHOD:PUBLISH
END:VEVENT
END:VCALENDAR