BEGIN:VCALENDAR
VERSION:2.0
PRODID:spatie/icalendar-generator
DESCRIPTION:Veranstaltungen von kleineKraft
X-WR-CALDESC:Veranstaltungen von kleineKraft
REFRESH-INTERVAL;VALUE=DURATION:PT1440M
X-PUBLISHED-TTL:PT1440M
BEGIN:VTIMEZONE
TZID:Etc/GMT-1
BEGIN:STANDARD
DTSTART:20250707T190000Z
TZOFFSETFROM:+0100
TZOFFSETTO:+0100
END:STANDARD
END:VTIMEZONE
BEGIN:VTIMEZONE
TZID:UTC
BEGIN:STANDARD
DTSTART:20250725T130053Z
TZOFFSETFROM:+0000
TZOFFSETTO:+0000
END:STANDARD
END:VTIMEZONE
BEGIN:VEVENT
UID:130-56
DTSTAMP:20260421T130053Z
SUMMARY:Karfreitag - Good Friday Tenebrae Service (English)
LOCATION:Gemeindezentrum der Lutherischen Freikirche  Ebnetstr. 1  Wangen  
 88239
ORGANIZER;CN=Jonas Schröter:MAILTO:jonas@schroeters.net
DTSTART;TZID=Etc/GMT-1:20260403T190000
DTEND;TZID=Etc/GMT-1:20260403T200000
X-ALT-DESC;FMTTYPE=TEXT/HTML:Über das Osterwochenende haben wir eine Grupp
 e von amerikanischen Lutheranern zu Gast\, die am Gründonnerstag und Karf
 reitag einen englischen Gottesdienst feiern.
CATEGORIES:GD live
URL;VALUE=URI:https://kleinekraft.de/mc-events/karfreitag-good-friday-teneb
 rae-service-english/
METHOD:PUBLISH
END:VEVENT
END:VCALENDAR