BEGIN:VCALENDAR
VERSION:2.0
PRODID:spatie/icalendar-generator
DESCRIPTION:Veranstaltungen von kleineKraft
X-WR-CALDESC:Veranstaltungen von kleineKraft
REFRESH-INTERVAL;VALUE=DURATION:PT1440M
X-PUBLISHED-TTL:PT1440M
BEGIN:VTIMEZONE
TZID:Etc/GMT-1
BEGIN:STANDARD
DTSTART:20250707T150000Z
TZOFFSETFROM:+0100
TZOFFSETTO:+0100
END:STANDARD
END:VTIMEZONE
BEGIN:VTIMEZONE
TZID:UTC
BEGIN:STANDARD
DTSTART:20250725T114052Z
TZOFFSETFROM:+0000
TZOFFSETTO:+0000
END:STANDARD
END:VTIMEZONE
BEGIN:VEVENT
UID:128-54
DTSTAMP:20260421T114052Z
SUMMARY:Karfreitag - Feier zur Sterbestunde des Herrn
LOCATION:Ludesch (Vorarlberg - A)
ORGANIZER;CN=Jonas Schröter:MAILTO:jonas@schroeters.net
DTSTART;TZID=Etc/GMT-1:20260403T150000
DTEND;TZID=Etc/GMT-1:20260403T150000
X-ALT-DESC;FMTTYPE=TEXT/HTML:Wir denken mit Schriftlesungen\, Gebeten und C
 horälen an das\, was Jesus für uns am Kreuz vollbracht hat.
CATEGORIES:GD live
URL;VALUE=URI:https://kleinekraft.de/mc-events/karfreitag-feier-zur-sterbes
 tunde-des-herrn/
METHOD:PUBLISH
END:VEVENT
END:VCALENDAR