BEGIN:VCALENDAR
VERSION:2.0
PRODID:spatie/icalendar-generator
DESCRIPTION:Veranstaltungen von kleineKraft
X-WR-CALDESC:Veranstaltungen von kleineKraft
REFRESH-INTERVAL;VALUE=DURATION:PT1440M
X-PUBLISHED-TTL:PT1440M
BEGIN:VTIMEZONE
TZID:Etc/GMT-1
BEGIN:STANDARD
DTSTART:20250706T190000Z
TZOFFSETFROM:+0100
TZOFFSETTO:+0100
END:STANDARD
END:VTIMEZONE
BEGIN:VTIMEZONE
TZID:UTC
BEGIN:STANDARD
DTSTART:20250725T113901Z
TZOFFSETFROM:+0000
TZOFFSETTO:+0000
END:STANDARD
END:VTIMEZONE
BEGIN:VEVENT
UID:129-55
DTSTAMP:20260421T113901Z
SUMMARY:Gründonnerstag - Maundy Thursday service (English)
LOCATION:Gemeindezentrum der Lutherischen Freikirche  Ebnetstr. 1  Wangen  
 88239
ORGANIZER;CN=Jonas Schröter:MAILTO:jonas@schroeters.net
DTSTART;TZID=Etc/GMT-1:20260402T190000
DTEND;TZID=Etc/GMT-1:20260402T200000
X-ALT-DESC;FMTTYPE=TEXT/HTML:Über das Osterwochenende haben wir eine Grupp
 e von amerikanischen Lutheranern zu Gast\, die am Gründonnerstag und Karf
 reitag einen englischen Gottesdienst feiern.
CATEGORIES:GD live
URL;VALUE=URI:https://kleinekraft.de/mc-events/gruendonnerstag-maundy-thurs
 day-service-english/
METHOD:PUBLISH
END:VEVENT
END:VCALENDAR