BEGIN:VCALENDAR
VERSION:2.0
PRODID:spatie/icalendar-generator
DESCRIPTION:Veranstaltungen von kleineKraft
X-WR-CALDESC:Veranstaltungen von kleineKraft
REFRESH-INTERVAL;VALUE=DURATION:PT1440M
X-PUBLISHED-TTL:PT1440M
BEGIN:VTIMEZONE
TZID:Etc/GMT-1
BEGIN:STANDARD
DTSTART:20250802T193000Z
TZOFFSETFROM:+0100
TZOFFSETTO:+0100
END:STANDARD
END:VTIMEZONE
BEGIN:VTIMEZONE
TZID:UTC
BEGIN:STANDARD
DTSTART:20250726T191640Z
TZOFFSETFROM:+0000
TZOFFSETTO:+0000
END:STANDARD
END:VTIMEZONE
BEGIN:VEVENT
UID:153-59
DTSTAMP:20260422T191640Z
SUMMARY:Bibelstunde online
LOCATION:Videokonferenz per Teams
ORGANIZER;CN=Jonas Schröter:MAILTO:jonas@schroeters.net
RRULE:FREQ=WEEKLY;UNTIL=20260722T000000Z
DTSTART;TZID=Etc/GMT-1:20260429T193000
DTEND;TZID=Etc/GMT-1:20260429T203000
X-ALT-DESC;FMTTYPE=TEXT/HTML:Tiefer eindringen in die Botschaft der Bibel -
  wir lesen fortlaufend ein Buch der Bibel. Treffpunkt: Videokonferenz mit 
 Teams
CATEGORIES:Bibelstunde
URL;VALUE=URI:https://kleinekraft.de/mc-events/bibelstunde-online-9/?mc_id=
 153
METHOD:PUBLISH
END:VEVENT
END:VCALENDAR